BEGIN:VCALENDAR
VERSION:2.0
PRODID:-//Kulvio Event Calendar//kulvio.de//
CALSCALE:GREGORIAN
METHOD:PUBLISH
BEGIN:VEVENT
SUMMARY:Bernhard Westenberger: Gestern gings noch
DTSTART:20260620T180000Z
DTEND:20260620T190000Z
DTSTAMP:20260421T043144Z
UID:kulvio-event-2682@kulvio.de
CATEGORIES:Kabarett
CREATED:20260419T155540Z
DESCRIPTION:Der Kabarettist Bernhard Westenberger zeigt sein Programm Gest
 ern gings noch im ShowSpielhaus Main-Taunus in Hofheim. In seiner Show nim
 mt er den Alltag und das Älterwerden mit trockenem Humor und hessischem C
 harme aufs Korn. Die Vorstellung beginnt um 20 Uhr.
GEO:50.082456;8.454695
LAST-MODIFIED:20260419T160134Z
LOCATION:ShowSpielhaus Main-Taunus\, Hattersheimer Straße 31\, 65719\, Ho
 fheim am Taunus
STATUS:CONFIRMED
URL:https://kulvio.de/event/2682
END:VEVENT
END:VCALENDAR
