BEGIN:VCALENDAR
VERSION:2.0
PRODID:-//Kulvio Event Calendar//kulvio.de//
CALSCALE:GREGORIAN
METHOD:PUBLISH
BEGIN:VEVENT
SUMMARY:Kammermusikkonzert an der Bergkapelle
DTSTART:20260628T150000Z
DTEND:20260628T170000Z
DTSTAMP:20260421T043141Z
UID:kulvio-event-2683@kulvio.de
CATEGORIES:Konzert,Open-Air
CREATED:20260419T155540Z
DESCRIPTION:Die Paul-Hindemith-Orchesterakademie veranstaltet ein Kammermu
 sikkonzert an der Bergkapelle auf dem Kapellenberg in Hofheim am Taunus. D
 as Open-Air-Konzert findet im Rahmen des KreisStadtSommers statt und biete
 t klassische Kammermusik in der besonderen Kulisse der historischen Kapell
 e mit Blick über das Rhein-Main-Gebiet. Das Konzert dauert von 17 bis 19 
 Uhr.
GEO:50.099913;8.436647
LAST-MODIFIED:20260419T160134Z
LOCATION:Kapellenberg\, 65719\, Hofheim am Taunus
STATUS:CONFIRMED
URL:https://kulvio.de/event/2683
END:VEVENT
END:VCALENDAR
