BEGIN:VCALENDAR
VERSION:2.0
PRODID:-//Kulvio Event Calendar//kulvio.de//
CALSCALE:GREGORIAN
METHOD:PUBLISH
BEGIN:VEVENT
SUMMARY:Sommerschein Festival 2026
DTSTART:20260808T120000Z
DTEND:20260808T210000Z
DTSTAMP:20260421T043145Z
UID:kulvio-event-2684@kulvio.de
CATEGORIES:Festival,Open-Air
CREATED:20260419T155540Z
DESCRIPTION:Das Sommerschein Festival findet seit 1996 jährlich als ehren
 amtlich organisiertes Open-Air-Musikfestival im Sportpark Heide in Hofheim
  am Taunus statt. Mehrere Bands spielen auf der Freiluftbühne ein abwechs
 lungsreiches Programm aus verschiedenen Musikrichtungen. Der Eintritt zum 
 Festival ist frei.
GEO:50.077388;8.419513
LAST-MODIFIED:20260419T160134Z
LOCATION:Sportpark Heide\, Schloßstraße 70\, 65719\, Hofheim am Taunus
STATUS:CONFIRMED
URL:https://kulvio.de/event/2684
END:VEVENT
END:VCALENDAR
