BEGIN:VCALENDAR
VERSION:2.0
PRODID:-//Kulvio Event Calendar//kulvio.de//
CALSCALE:GREGORIAN
METHOD:PUBLISH
BEGIN:VEVENT
SUMMARY:Woody Feldmann: Sachma geht's noch?
DTSTART:20260906T163000Z
DTEND:20260906T173000Z
DTSTAMP:20260421T042816Z
UID:kulvio-event-2685@kulvio.de
CATEGORIES:Comedy
CREATED:20260419T155541Z
DESCRIPTION:Der hessische Comedian Woody Feldmann gastiert mit seinem Prog
 ramm Sachma geht's noch in der Stadthalle Hofheim. In seiner Show nimmt er
  den hessischen Alltag\, Eigenarten und Klischees mit Frankfurter Mundart 
 und trockenem Humor aufs Korn. Die Vorstellung beginnt um 18:30 Uhr.
GEO:50.08528;8.448222
LAST-MODIFIED:20260419T160134Z
LOCATION:Stadthalle Hofheim\, Chinonplatz 4\, 65719\, Hofheim am Taunus
STATUS:CONFIRMED
URL:https://kulvio.de/event/2685
END:VEVENT
END:VCALENDAR
