BEGIN:VCALENDAR
VERSION:2.0
PRODID:-//Kulvio Event Calendar//kulvio.de//
CALSCALE:GREGORIAN
METHOD:PUBLISH
BEGIN:VEVENT
SUMMARY:Johannes Flöck: Früher war ich jünger
DTSTART:20260924T180000Z
DTEND:20260924T190000Z
DTSTAMP:20260421T042807Z
UID:kulvio-event-2686@kulvio.de
CATEGORIES:Kabarett
CREATED:20260419T155541Z
DESCRIPTION:Der Kabarettist Johannes Flöck präsentiert sein Programm Fr
 üher war ich jünger im ShowSpielhaus Main-Taunus in Hofheim. In seiner S
 how widmet er sich humorvoll dem Lauf der Zeit und den Veränderungen die 
 das Älterwerden mit sich bringt. Karten sind ab 29 Euro erhältlich\, die
  Vorstellung beginnt um 20 Uhr.
GEO:50.082456;8.454695
LAST-MODIFIED:20260419T160134Z
LOCATION:ShowSpielhaus Main-Taunus\, Hattersheimer Straße 31\, 65719\, Ho
 fheim am Taunus
STATUS:CONFIRMED
URL:https://kulvio.de/event/2686
END:VEVENT
END:VCALENDAR
