BEGIN:VCALENDAR
VERSION:2.0
PRODID:-//Kulvio Event Calendar//kulvio.de//
CALSCALE:GREGORIAN
METHOD:PUBLISH
BEGIN:VEVENT
SUMMARY:Mundstuhl: Wir kommen!
DTSTART:20261128T190000Z
DTEND:20261128T200000Z
DTSTAMP:20260421T042813Z
UID:kulvio-event-2687@kulvio.de
CATEGORIES:Comedy
CREATED:20260419T155541Z
DESCRIPTION:Das Frankfurter Comedy-Duo Mundstuhl präsentiert sein neues P
 rogramm Wir kommen in der Stadthalle Hofheim. Lars Niedereichholz und Ande
  Werner bringen ihre Mischung aus Stand-Up\, Sketchen und Musikeinlagen au
 f die Bühne und sorgen mit hessischem Humor und absurden Figuren für ein
 en kurzweiligen Abend. Die Vorstellung beginnt um 20 Uhr.
GEO:50.08528;8.448222
LAST-MODIFIED:20260419T160134Z
LOCATION:Stadthalle Hofheim\, Chinonplatz 4\, 65719\, Hofheim am Taunus
STATUS:CONFIRMED
URL:https://kulvio.de/event/2687
END:VEVENT
END:VCALENDAR
