BEGIN:VCALENDAR
VERSION:2.0
PRODID:-//Kulvio Event Calendar//kulvio.de//
CALSCALE:GREGORIAN
METHOD:PUBLISH
BEGIN:VEVENT
SUMMARY:A Tribute to the Best of Hans Zimmer
DTSTART:20261202T190000Z
DTEND:20261202T200000Z
DTSTAMP:20260421T043151Z
UID:kulvio-event-2688@kulvio.de
CATEGORIES:Konzert
CREATED:20260419T155541Z
DESCRIPTION:Ein Tribute-Konzert zu Ehren des Filmkomponisten Hans Zimmer g
 astiert in der Stadthalle Hofheim. Das Ensemble präsentiert die bekanntes
 ten Filmmusiken des Oscar-Preisträgers mit Live-Orchester und bringt die 
 epischen Klangwelten aus Filmen wie Interstellar\, Gladiator und Fluch der
  Karibik auf die Bühne. Die Vorstellung beginnt um 20 Uhr.
GEO:50.08528;8.448222
LAST-MODIFIED:20260419T160134Z
LOCATION:Stadthalle Hofheim\, Chinonplatz 4\, 65719\, Hofheim am Taunus
STATUS:CONFIRMED
URL:https://kulvio.de/event/2688
END:VEVENT
END:VCALENDAR
