BEGIN:VCALENDAR
VERSION:2.0
PRODID:-//Kulvio Event Calendar//kulvio.de//
CALSCALE:GREGORIAN
METHOD:PUBLISH
BEGIN:VEVENT
SUMMARY:Adventsmarkt Hofheim - Samstag
DTSTART:20261205T110000Z
DTEND:20261205T190000Z
DTSTAMP:20260421T035330Z
UID:kulvio-event-2689@kulvio.de
CATEGORIES:Weihnachtsmarkt
CREATED:20260419T155541Z
DESCRIPTION:Der Hofheimer Adventsmarkt lädt am zweiten Adventswochenende 
 zum Bummeln durch die Innenstadt ein. Auf dem Kellereiplatz\, dem Ludwig-M
 eidner-Platz und in der Hauptstraße bieten Stände Kunsthandwerk\, Gesche
 nke und weihnachtliche Spezialitäten an. Am Tivertonplatz öffnet ab 18 U
 hr ein Glühweingarten\, auf dem Ludwig-Meidner-Platz findet morgens der B
 auernmarkt statt.
GEO:50.086603;8.447619
LAST-MODIFIED:20260419T160134Z
LOCATION:Kellereiplatz\, 65719\, Hofheim am Taunus
STATUS:CONFIRMED
URL:https://kulvio.de/event/2689
END:VEVENT
END:VCALENDAR
