BEGIN:VCALENDAR
VERSION:2.0
PRODID:-//Kulvio Event Calendar//kulvio.de//
CALSCALE:GREGORIAN
METHOD:PUBLISH
BEGIN:VEVENT
SUMMARY:Adventsmarkt Hofheim - Sonntag
DTSTART:20261206T110000Z
DTEND:20261206T190000Z
DTSTAMP:20260421T043144Z
UID:kulvio-event-2690@kulvio.de
CATEGORIES:Weihnachtsmarkt
CREATED:20260419T155541Z
DESCRIPTION:Am Sonntag setzt der Hofheimer Adventsmarkt in der Innenstadt 
 fort. Neben den Kunsthandwerks- und Geschenkständen auf dem Kellereiplatz
  und in der Hauptstraße findet auf dem Ludwig-Meidner-Platz Der andere We
 ihnachtsmarkt statt\, bei dem soziale Einrichtungen\, Schulen und Vereine 
 ihre Projekte und weihnachtliche Ideen vorstellen. Der Glühweingarten am 
 Tivertonplatz öffnet erneut ab 18 Uhr.
GEO:50.086603;8.447619
LAST-MODIFIED:20260419T160134Z
LOCATION:Kellereiplatz\, 65719\, Hofheim am Taunus
STATUS:CONFIRMED
URL:https://kulvio.de/event/2690
END:VEVENT
END:VCALENDAR
