BEGIN:VCALENDAR
VERSION:2.0
PRODID:-//Kulvio Event Calendar//kulvio.de//
CALSCALE:GREGORIAN
METHOD:PUBLISH
BEGIN:VEVENT
SUMMARY:Peter Autschbach: Begin At The End
DTSTART:20260508T183000Z
DTEND:20260508T210000Z
DTSTAMP:20260421T035330Z
UID:kulvio-event-2691@kulvio.de
CATEGORIES:Konzert
CREATED:20260419T155608Z
DESCRIPTION:Der Gitarrist Peter Autschbach präsentiert sein Soloprogramm 
 Begin At The End im Jazzclub Kelkheim. Die Musik seines gleichnamigen Albu
 ms auf dem japanischen Label Da Vinci verbindet Fingerstyle\, Latin und Gr
 oove zu kunstvollen Gitarrenstücken mit überraschenden Wendungen. Einlas
 s ist ab 19:30 Uhr\, das Konzert beginnt um 20:30 Uhr.
GEO:50.146391;8.450464
LAST-MODIFIED:20260419T160134Z
LOCATION:Jazzclub Kelkheim\, Rotlintallee 2\, 65779\, Kelkheim (Taunus)
STATUS:CONFIRMED
URL:https://kulvio.de/event/2691
END:VEVENT
END:VCALENDAR
