BEGIN:VCALENDAR
VERSION:2.0
PRODID:-//Kulvio Event Calendar//kulvio.de//
CALSCALE:GREGORIAN
METHOD:PUBLISH
BEGIN:VEVENT
SUMMARY:Kelkheimer Stadtfest - Warm-Up
DTSTART:20260516T160000Z
DTEND:20260516T210000Z
DTSTAMP:20260421T043149Z
UID:kulvio-event-2692@kulvio.de
CATEGORIES:Stadtfest
CREATED:20260419T155608Z
DESCRIPTION:Am Samstagabend startet das Kelkheimer Stadtfest mit einem War
 m-Up-Abend in der Innenstadt. Entlang der Frankfurter Straße\, Bahnstraß
 e und im Großen Haingraben öffnen die ersten Stände und Fahrgeschäfte.
  Der Warm-Up-Abend stimmt auf das große Stadtfest am Sonntag ein und begi
 nnt um 18 Uhr.
GEO:50.131901;8.45386
LAST-MODIFIED:20260419T160134Z
LOCATION:Frankfurter Straße\, 65779\, Kelkheim (Taunus)
STATUS:CONFIRMED
URL:https://kulvio.de/event/2692
END:VEVENT
END:VCALENDAR
