BEGIN:VCALENDAR
VERSION:2.0
PRODID:-//Kulvio Event Calendar//kulvio.de//
CALSCALE:GREGORIAN
METHOD:PUBLISH
BEGIN:VEVENT
SUMMARY:Kelkheimer Stadtfest
DTSTART:20260517T090000Z
DTEND:20260517T160000Z
DTSTAMP:20260421T035542Z
UID:kulvio-event-2693@kulvio.de
CATEGORIES:Stadtfest
CREATED:20260419T155608Z
DESCRIPTION:Das Kelkheimer Stadtfest verwandelt die Innenstadt in eine gro
 ße Festmeile für die ganze Familie. Entlang der Frankfurter Straße\, Ba
 hnstraße und im Großen Haingraben bieten Vereine\, Händler und Food Tru
 cks ein buntes Programm mit Live-Musik\, Kunsthandwerkermarkt und Flohmark
 t. Dazu lädt der Kelkheimer Einzelhandel von 12 bis 18 Uhr zum verkaufsof
 fenen Sonntag ein.
GEO:50.131901;8.45386
LAST-MODIFIED:20260419T160134Z
LOCATION:Frankfurter Straße\, 65779\, Kelkheim (Taunus)
STATUS:CONFIRMED
URL:https://kulvio.de/event/2693
END:VEVENT
END:VCALENDAR
