BEGIN:VCALENDAR
VERSION:2.0
PRODID:-//Kulvio Event Calendar//kulvio.de//
CALSCALE:GREGORIAN
METHOD:PUBLISH
BEGIN:VEVENT
SUMMARY:Acoustic Blues Night: Kramer\, van Merwyk & Bad Temper Joe
DTSTART:20260605T183000Z
DTEND:20260605T210000Z
DTSTAMP:20260421T043142Z
UID:kulvio-event-2694@kulvio.de
CATEGORIES:Konzert
CREATED:20260419T155608Z
DESCRIPTION:Im Jazzclub Kelkheim gastieren Chris Kramer\, Michael van Merw
 yk und Bad Temper Joe mit einer Acoustic Blues Night. Die drei Bluesmusike
 r bringen akustischen Blues in den intimen Rahmen des Clubs in der Rotlint
 allee. Einlass ist ab 19:30 Uhr\, das Konzert beginnt um 20:30 Uhr.
GEO:50.146391;8.450464
LAST-MODIFIED:20260419T160134Z
LOCATION:Jazzclub Kelkheim\, Rotlintallee 2\, 65779\, Kelkheim (Taunus)
STATUS:CONFIRMED
URL:https://kulvio.de/event/2694
END:VEVENT
END:VCALENDAR
