BEGIN:VCALENDAR
VERSION:2.0
PRODID:-//Kulvio Event Calendar//kulvio.de//
CALSCALE:GREGORIAN
METHOD:PUBLISH
BEGIN:VEVENT
SUMMARY:Annett Louisan: 22 Jahre Bohème - Das Jubiläumskonzert
DTSTART:20260628T160000Z
DTEND:20260628T170000Z
DTSTAMP:20260421T042946Z
UID:kulvio-event-2695@kulvio.de
CATEGORIES:Konzert,Open-Air
CREATED:20260419T155608Z
DESCRIPTION:Die Sängerin Annett Louisan feiert mit ihrem Jubiläumskonzer
 t 22 Jahre Bohème im Innenhof des Rettershofs in Kelkheim. Das Open-Air-K
 onzert auf dem historischen Gutshof bietet einen besonderen Rahmen für ih
 re bekanntesten Songs aus über zwei Jahrzehnten Karriere. Karten kosten z
 wischen 50 und 62 Euro\, das Konzert beginnt um 18 Uhr.
GEO:50.169584;8.429103
LAST-MODIFIED:20260419T160134Z
LOCATION:Rettershof - Innenhof des Gutshofes\, Rettershof 5\, 65779\, Kelk
 heim (Taunus)
STATUS:CONFIRMED
URL:https://kulvio.de/event/2695
END:VEVENT
END:VCALENDAR
