BEGIN:VCALENDAR
VERSION:2.0
PRODID:-//Kulvio Event Calendar//kulvio.de//
CALSCALE:GREGORIAN
METHOD:PUBLISH
BEGIN:VEVENT
SUMMARY:Gregor Meyle & Band: Sommertour 2026
DTSTART:20260816T160000Z
DTEND:20260816T170000Z
DTSTAMP:20260421T043142Z
UID:kulvio-event-2696@kulvio.de
CATEGORIES:Konzert,Open-Air
CREATED:20260419T155608Z
DESCRIPTION:Der Singer-Songwriter Gregor Meyle gastiert mit seiner Band im
  Rahmen der Sommertour 2026 im Innenhof des Rettershofs in Kelkheim. Das O
 pen-Air-Konzert auf dem historischen Gutshof bietet seine Mischung aus deu
 tschsprachigem Pop und gefühlvollen Balladen in besonderer Atmosphäre. E
 inlass ist ab 17 Uhr\, das Konzert beginnt um 18 Uhr.
GEO:50.169584;8.429103
LAST-MODIFIED:20260419T160134Z
LOCATION:Rettershof - Innenhof des Gutshofes\, Rettershof 5\, 65779\, Kelk
 heim (Taunus)
STATUS:CONFIRMED
URL:https://kulvio.de/event/2696
END:VEVENT
END:VCALENDAR
