BEGIN:VCALENDAR
VERSION:2.0
PRODID:-//Kulvio Event Calendar//kulvio.de//
CALSCALE:GREGORIAN
METHOD:PUBLISH
BEGIN:VEVENT
SUMMARY:TaunusSoul in Hornau
DTSTART:20260830T090000Z
DTEND:20260830T160000Z
DTSTAMP:20260421T084855Z
UID:kulvio-event-2697@kulvio.de
CATEGORIES:Festival,Stadtfest
CREATED:20260419T155608Z
DESCRIPTION:Das Kulturfestival TaunusSoul findet in Kelkheims ältestem St
 adtteil Hornau statt. Rund um die Martinskirche\, das Gagernhaus\, die Alt
 e Kirche und das Franziskushaus bieten Kunsthandwerker\, Musiker und Gastr
 onomen ein abwechslungsreiches Programm aus Kunst\, Musik\, Varieté und k
 ulinarischen Spezialitäten. Das Festival läuft von 11 bis 18 Uhr und ric
 htet sich an die ganze Familie.
GEO:50.147345;8.451334
LAST-MODIFIED:20260419T160134Z
LOCATION:Hornauer Straße 124\, 65779\, Kelkheim (Taunus)
STATUS:CONFIRMED
URL:https://kulvio.de/event/2697
END:VEVENT
END:VCALENDAR
