BEGIN:VCALENDAR
VERSION:2.0
PRODID:-//Kulvio Event Calendar//kulvio.de//
CALSCALE:GREGORIAN
METHOD:PUBLISH
BEGIN:VEVENT
SUMMARY:Lindenblütenfest Kriftel - Samstag
DTSTART:20260606T120000Z
DTEND:20260606T210000Z
DTSTAMP:20260421T043145Z
UID:kulvio-event-2698@kulvio.de
CATEGORIES:Stadtfest,Tradition
CREATED:20260419T155627Z
DESCRIPTION:Das Lindenblütenfest ist das traditionelle Sommerfest der Ker
 begesellschaft Kriftel und findet jedes Jahr am ersten Juniwochenende stat
 t. Entlang der Frankfurter Straße und Bahnhofstraße laden Stände mit Es
 sen\, Getränken und Musik zum Feiern ein. Das Fest gehört zu den beliebt
 esten Veranstaltungen der Gemeinde und richtet sich an alle Altersgruppen.
GEO:50.086451;8.473245
LAST-MODIFIED:20260419T160134Z
LOCATION:Frankfurter Straße\, 65830\, Kriftel
STATUS:CONFIRMED
URL:https://kulvio.de/event/2698
END:VEVENT
END:VCALENDAR
