BEGIN:VCALENDAR
VERSION:2.0
PRODID:-//Kulvio Event Calendar//kulvio.de//
CALSCALE:GREGORIAN
METHOD:PUBLISH
BEGIN:VEVENT
SUMMARY:Lindenblütenfest Kriftel - Sonntag
DTSTART:20260607T090000Z
DTEND:20260607T180000Z
DTSTAMP:20260421T043152Z
UID:kulvio-event-2699@kulvio.de
CATEGORIES:Stadtfest,Tradition
CREATED:20260419T155627Z
DESCRIPTION:Am Sonntag setzt das Lindenblütenfest in Kriftel fort. Die Ke
 rbegesellschaft Kriftel lädt erneut entlang der Frankfurter Straße und B
 ahnhofstraße zu Musik\, kulinarischen Angeboten und Geselligkeit ein. Der
  Sonntag eignet sich besonders für einen entspannten Besuch mit der ganze
 n Familie.
GEO:50.086451;8.473245
LAST-MODIFIED:20260419T160134Z
LOCATION:Frankfurter Straße\, 65830\, Kriftel
STATUS:CONFIRMED
URL:https://kulvio.de/event/2699
END:VEVENT
END:VCALENDAR
