BEGIN:VCALENDAR
VERSION:2.0
PRODID:-//Kulvio Event Calendar//kulvio.de//
CALSCALE:GREGORIAN
METHOD:PUBLISH
BEGIN:VEVENT
SUMMARY:Musik im Park Kriftel - Freitag
DTSTART:20260626T160000Z
DTEND:20260626T210000Z
DTSTAMP:20260421T043144Z
UID:kulvio-event-2700@kulvio.de
CATEGORIES:Festival,Open-Air
CREATED:20260419T155627Z
DESCRIPTION:Das Open-Air-Festival Musik im Park startet am Freitagabend im
  Krifteler Freizeitpark. Nach der Eröffnungsfeier ab 18 Uhr beginnt das m
 usikalische Programm um 20 Uhr mit der Band Kharma auf der Freiluftbühne.
  Der Eintritt zum dreitägigen Festival ist frei\, Speisen und Getränke g
 ibt es an zahlreichen Ständen.
GEO:50.080526;8.463606
LAST-MODIFIED:20260419T160134Z
LOCATION:Brunnenweg\, 65830\, Kriftel
STATUS:CONFIRMED
URL:https://kulvio.de/event/2700
END:VEVENT
END:VCALENDAR
