BEGIN:VCALENDAR
VERSION:2.0
PRODID:-//Kulvio Event Calendar//kulvio.de//
CALSCALE:GREGORIAN
METHOD:PUBLISH
BEGIN:VEVENT
SUMMARY:Musik im Park Kriftel - Samstag
DTSTART:20260627T130000Z
DTEND:20260627T210000Z
DTSTAMP:20260421T042311Z
UID:kulvio-event-2701@kulvio.de
CATEGORIES:Festival,Open-Air
CREATED:20260419T155627Z
DESCRIPTION:Am Samstag erreicht das Festival Musik im Park im Krifteler Fr
 eizeitpark seinen Höhepunkt. Ab 15 Uhr spielt The Varied Projekt aus Krif
 tel\, am Abend sorgt die ABBA-Tribute-Band BABA Explosion für das Highlig
 ht des Tages. Der Eintritt ist frei\, die Veranstaltung ist familienfreund
 lich.
GEO:50.080526;8.463606
LAST-MODIFIED:20260419T160134Z
LOCATION:Brunnenweg\, 65830\, Kriftel
STATUS:CONFIRMED
URL:https://kulvio.de/event/2701
END:VEVENT
END:VCALENDAR
