BEGIN:VCALENDAR
VERSION:2.0
PRODID:-//Kulvio Event Calendar//kulvio.de//
CALSCALE:GREGORIAN
METHOD:PUBLISH
BEGIN:VEVENT
SUMMARY:Musik im Park Kriftel - Sonntag
DTSTART:20260628T080000Z
DTEND:20260628T160000Z
DTSTAMP:20260421T042007Z
UID:kulvio-event-2702@kulvio.de
CATEGORIES:Festival,Open-Air
CREATED:20260419T155627Z
DESCRIPTION:Am Sonntag klingt das Festival Musik im Park im Krifteler Frei
 zeitpark mit einem abwechslungsreichen Programm aus. Nach einem ökumenisc
 hen Gottesdienst um 10 Uhr übernimmt die Swing Company Wiesbaden mit Big-
 Band-Klängen die Bühne. Der Eintritt ist frei\, der Sonntag eignet sich 
 besonders für einen entspannten Familienausflug.
GEO:50.080526;8.463606
LAST-MODIFIED:20260419T160134Z
LOCATION:Brunnenweg\, 65830\, Kriftel
STATUS:CONFIRMED
URL:https://kulvio.de/event/2702
END:VEVENT
END:VCALENDAR
