BEGIN:VCALENDAR
VERSION:2.0
PRODID:-//Kulvio Event Calendar//kulvio.de//
CALSCALE:GREGORIAN
METHOD:PUBLISH
BEGIN:VEVENT
SUMMARY:Adventsmarkt Kriftel
DTSTART:20261129T100000Z
DTEND:20261129T170000Z
DTSTAMP:20260421T035335Z
UID:kulvio-event-2703@kulvio.de
CATEGORIES:Weihnachtsmarkt
CREATED:20260419T155627Z
DESCRIPTION:Der Krifteler Adventsmarkt findet am ersten Adventssonntag vor
  der St.-Vitus-Kirche statt. Der Vereinsring Kriftel organisiert den Markt
  mit Ständen\, Kunsthandwerk und weihnachtlichen Spezialitäten. In der S
 t.-Vitus-Kirche begleitet die Krifteler Adventsmusik mit Gesang und Instru
 mentalmusik den Markttag.
GEO:50.084442;8.465742
LAST-MODIFIED:20260419T160134Z
LOCATION:Schulstraße\, 65830\, Kriftel
STATUS:CONFIRMED
URL:https://kulvio.de/event/2703
END:VEVENT
END:VCALENDAR
