BEGIN:VCALENDAR
VERSION:2.0
PRODID:-//Kulvio Event Calendar//kulvio.de//
CALSCALE:GREGORIAN
METHOD:PUBLISH
BEGIN:VEVENT
SUMMARY:Kammermusikabend der Frankfurter Sparkasse 1822
DTSTART:20260421T180000Z
DTEND:20260421T200000Z
DTSTAMP:20260421T043148Z
UID:kulvio-event-2704@kulvio.de
CATEGORIES:Konzert
CREATED:20260419T155640Z
DESCRIPTION:Im Bürgerhaus Schwalbach am Taunus findet ein Kammermusikaben
 d statt\, der von der Frankfurter Sparkasse 1822 präsentiert wird. Die Ko
 nzertreihe bringt klassische Kammermusik in den Großen Saal des Bürgerha
 uses am Marktplatz. Der Abend beginnt um 20 Uhr und richtet sich an Liebha
 ber klassischer Musik.
GEO:50.154318;8.52828
LAST-MODIFIED:20260419T160134Z
LOCATION:Bürgerhaus Schwalbach am Taunus\, Marktplatz 1-2\, 65824\, Schwa
 lbach am Taunus
STATUS:CONFIRMED
URL:https://kulvio.de/event/2704
END:VEVENT
END:VCALENDAR
