BEGIN:VCALENDAR
VERSION:2.0
PRODID:-//Kulvio Event Calendar//kulvio.de//
CALSCALE:GREGORIAN
METHOD:PUBLISH
BEGIN:VEVENT
SUMMARY:Jo van Nelsen: Das Leise im Lauten
DTSTART:20260423T173000Z
DTEND:20260423T193000Z
DTSTAMP:20260421T085040Z
UID:kulvio-event-2705@kulvio.de
CATEGORIES:Lesung,Konzert
CREATED:20260419T155640Z
DESCRIPTION:Der Sänger und Entertainer Jo van Nelsen präsentiert in der 
 Stadtbücherei Schwalbach seinen Abend Das Leise im Lauten\, bei dem Text 
 auf Ton trifft. Die Veranstaltung verbindet Lesung und Musik und findet im
  Rahmen der Initiative Frankfurt liest ein Buch statt. Der Kulturkreis Sch
 walbach und die Stadtbücherei laden gemeinsam zu diesem literarisch-musik
 alischen Abend ein\, der um 19:30 Uhr beginnt.
GEO:50.154521;8.528925
LAST-MODIFIED:20260419T160134Z
LOCATION:Stadtbücherei Schwalbach\, Marktplatz 15\, 65824\, Schwalbach am
  Taunus
STATUS:CONFIRMED
URL:https://kulvio.de/event/2705
END:VEVENT
END:VCALENDAR
