BEGIN:VCALENDAR
VERSION:2.0
PRODID:-//Kulvio Event Calendar//kulvio.de//
CALSCALE:GREGORIAN
METHOD:PUBLISH
BEGIN:VEVENT
SUMMARY:Jazz am Montag: Magalí Sare i Manel Fortià Duo
DTSTART:20260429T173000Z
DTEND:20260429T200000Z
DTSTAMP:20260421T042427Z
UID:kulvio-event-2706@kulvio.de
CATEGORIES:Konzert
CREATED:20260419T155640Z
DESCRIPTION:Im Rahmen der Konzertreihe Jazz am Montag gastiert das Duo Mag
 alí Sare und Manel Fortià im Bürgerhaus Schwalbach am Taunus. Der Jazzc
 lub Schwalbach veranstaltet die Reihe regelmäßig im Gruppenraum 1 des B
 ürgerhauses\, der mit seiner Akustik eine intime Konzertatmosphäre biete
 t. Das Konzert beginnt um 19:30 Uhr.
GEO:50.154318;8.52828
LAST-MODIFIED:20260419T160134Z
LOCATION:Bürgerhaus Schwalbach am Taunus\, Marktplatz 1-2\, 65824\, Schwa
 lbach am Taunus
STATUS:CONFIRMED
URL:https://kulvio.de/event/2706
END:VEVENT
END:VCALENDAR
