BEGIN:VCALENDAR
VERSION:2.0
PRODID:-//Kulvio Event Calendar//kulvio.de//
CALSCALE:GREGORIAN
METHOD:PUBLISH
BEGIN:VEVENT
SUMMARY:Theater: Miss Daisy und ihr Chauffeur
DTSTART:20260508T173000Z
DTEND:20260508T200000Z
DTSTAMP:20260421T042435Z
UID:kulvio-event-2707@kulvio.de
CATEGORIES:Theater
CREATED:20260419T155640Z
DESCRIPTION:Das Theaterstück Miss Daisy und ihr Chauffeur bildet den Absc
 hluss der Theatersaison 2025/26 im Bürgerhaus Schwalbach am Taunus. Doris
  Kunstmann spielt die 72-jährige pensionierte Lehrerin Miss Daisy\, die s
 ich weigert\, ihren neu eingestellten Chauffeur Hoke zu akzeptieren\, darg
 estellt von Ron Williams. Der Kulturkreis Schwalbach präsentiert das Stü
 ck im Großen Saal\, Beginn ist um 19:30 Uhr.
GEO:50.154318;8.52828
LAST-MODIFIED:20260419T160134Z
LOCATION:Bürgerhaus Schwalbach am Taunus\, Marktplatz 1-2\, 65824\, Schwa
 lbach am Taunus
STATUS:CONFIRMED
URL:https://kulvio.de/event/2707
END:VEVENT
END:VCALENDAR
