BEGIN:VCALENDAR
VERSION:2.0
PRODID:-//Kulvio Event Calendar//kulvio.de//
CALSCALE:GREGORIAN
METHOD:PUBLISH
BEGIN:VEVENT
SUMMARY:Flohmarkt in Schwalbach am Taunus
DTSTART:20260509T070000Z
DTEND:20260509T120000Z
DTSTAMP:20260421T042503Z
UID:kulvio-event-2708@kulvio.de
CATEGORIES:Flohmarkt
CREATED:20260419T155640Z
DESCRIPTION:Auf dem Marktplatz in Schwalbach am Taunus findet ein Flohmark
 t statt\, der vom Kulturkreis Schwalbach organisiert wird. Von 9 bis 14 Uh
 r können Besucher zwischen Ständen mit Trödel\, Haushaltswaren\, Büche
 rn und Kleidung stöbern. Der Flohmarkt ist Teil einer regelmäßigen Reih
 e und richtet sich an Schnäppchenjäger und Stöberfreunde.
GEO:50.154458;8.528443
LAST-MODIFIED:20260419T160134Z
LOCATION:Marktplatz\, 65824\, Schwalbach am Taunus
STATUS:CONFIRMED
URL:https://kulvio.de/event/2708
END:VEVENT
END:VCALENDAR
