BEGIN:VCALENDAR
VERSION:2.0
PRODID:-//Kulvio Event Calendar//kulvio.de//
CALSCALE:GREGORIAN
METHOD:PUBLISH
BEGIN:VEVENT
SUMMARY:Altstadtfest Schwalbach - Freitag
DTSTART:20260529T170000Z
DTEND:20260529T210000Z
DTSTAMP:20260421T042309Z
UID:kulvio-event-2709@kulvio.de
CATEGORIES:Stadtfest
CREATED:20260419T155640Z
DESCRIPTION:Das Schwalbacher Altstadtfest startet am Freitagabend im Alten
  Ortskern. Der Magistrat der Stadt Schwalbach am Taunus lädt zum beliebte
 n Fest für alle Generationen ein\, das mit Live-Musik und kulinarischen A
 ngeboten in die Altstadt lockt. Am Freitagabend öffnen die Stände ab 19 
 Uhr.
GEO:50.147684;8.531915
LAST-MODIFIED:20260419T160134Z
LOCATION:Schulstraße\, 65824\, Schwalbach am Taunus
STATUS:CONFIRMED
URL:https://kulvio.de/event/2709
END:VEVENT
END:VCALENDAR
