BEGIN:VCALENDAR
VERSION:2.0
PRODID:-//Kulvio Event Calendar//kulvio.de//
CALSCALE:GREGORIAN
METHOD:PUBLISH
BEGIN:VEVENT
SUMMARY:Altstadtfest Schwalbach - Samstag
DTSTART:20260530T130000Z
DTEND:20260530T210000Z
DTSTAMP:20260421T042815Z
UID:kulvio-event-2710@kulvio.de
CATEGORIES:Stadtfest
CREATED:20260419T155640Z
DESCRIPTION:Am Samstag setzt das Schwalbacher Altstadtfest im Alten Ortske
 rn fort. Ab 15 Uhr laden Vereine\, Gastronomen und Händler in die Altstad
 t ein\, wo Live-Musik und ein buntes Programm für die ganze Familie gebot
 en werden. Das Altstadtfest ist eine der beliebtesten Veranstaltungen der 
 Gemeinde und lockt jedes Jahr zahlreiche Besucher an.
GEO:50.147684;8.531915
LAST-MODIFIED:20260419T160134Z
LOCATION:Schulstraße\, 65824\, Schwalbach am Taunus
STATUS:CONFIRMED
URL:https://kulvio.de/event/2710
END:VEVENT
END:VCALENDAR
