BEGIN:VCALENDAR
VERSION:2.0
PRODID:-//Kulvio Event Calendar//kulvio.de//
CALSCALE:GREGORIAN
METHOD:PUBLISH
BEGIN:VEVENT
SUMMARY:Flohmarkt in Schwalbach am Taunus - Juli
DTSTART:20260711T070000Z
DTEND:20260711T120000Z
DTSTAMP:20260421T042935Z
UID:kulvio-event-2711@kulvio.de
CATEGORIES:Flohmarkt
CREATED:20260419T155640Z
DESCRIPTION:Auf dem Marktplatz in Schwalbach am Taunus findet der sommerli
 che Flohmarkt des Kulturkreises statt. Von 9 bis 14 Uhr bieten private Anb
 ieter und Händler Trödel\, Haushaltsgegenstände\, Kleidung und Bücher 
 an. Der Flohmarkt ist eine feste Größe im Schwalbacher Veranstaltungskal
 ender.
GEO:50.154458;8.528443
LAST-MODIFIED:20260419T160134Z
LOCATION:Marktplatz\, 65824\, Schwalbach am Taunus
STATUS:CONFIRMED
URL:https://kulvio.de/event/2711
END:VEVENT
END:VCALENDAR
