BEGIN:VCALENDAR
VERSION:2.0
PRODID:-//Kulvio Event Calendar//kulvio.de//
CALSCALE:GREGORIAN
METHOD:PUBLISH
BEGIN:VEVENT
SUMMARY:Schwalbacher Weihnachtsmarkt
DTSTART:20261205T140000Z
DTEND:20261205T200000Z
DTSTAMP:20260421T035329Z
UID:kulvio-event-2712@kulvio.de
CATEGORIES:Weihnachtsmarkt
CREATED:20260419T155640Z
DESCRIPTION:Der Schwalbacher Weihnachtsmarkt verwandelt den Bereich rund u
 m das Bürgerhaus am Marktplatz in eine festliche Kulisse mit Ständen\, K
 unsthandwerk und weihnachtlichen Spezialitäten. Der Kulturkreis Schwalbac
 h organisiert den Markt\, der von 15 bis 21 Uhr geöffnet ist. Der Weihnac
 htsmarkt bietet Glühwein\, Gebäck und Geschenkideen für die Adventszeit
 .
GEO:50.154458;8.528443
LAST-MODIFIED:20260419T160134Z
LOCATION:Marktplatz\, 65824\, Schwalbach am Taunus
STATUS:CONFIRMED
URL:https://kulvio.de/event/2712
END:VEVENT
END:VCALENDAR
