BEGIN:VCALENDAR
VERSION:2.0
PRODID:-//Kulvio Event Calendar//kulvio.de//
CALSCALE:GREGORIAN
METHOD:PUBLISH
BEGIN:VEVENT
SUMMARY:Swingin' Ladies plus 2 im Liederbacher Jazzclub
DTSTART:20260508T180000Z
DTEND:20260508T210000Z
DTSTAMP:20260421T041937Z
UID:kulvio-event-2713@kulvio.de
CATEGORIES:Konzert
CREATED:20260419T155651Z
DESCRIPTION:Die internationale Formation Swingin' Ladies plus 2 gastiert i
 m Liederbacher Jazzclub in der Kulturscheune. Die Band vereint die austral
 ische Bassistin und Sängerin Nicki Parrott mit den Pianisten Stephanie Tr
 ick und Paolo Alderighi\, die vierhändig am Klavier spielen\, sowie Klari
 nettist und Saxofonist Engelbert Wrobel. Das Programm reicht von Ragtime 
 über Swing und Boogie Woogie bis zu Blues mit Einflüssen aus Mambo und T
 ango.
GEO:50.122884;8.480103
LAST-MODIFIED:20260419T160134Z
LOCATION:Kulturscheune Liederbach\, Feldstraße 4\, 65835\, Liederbach am 
 Taunus
STATUS:CONFIRMED
URL:https://kulvio.de/event/2713
END:VEVENT
END:VCALENDAR
