BEGIN:VCALENDAR
VERSION:2.0
PRODID:-//Kulvio Event Calendar//kulvio.de//
CALSCALE:GREGORIAN
METHOD:PUBLISH
BEGIN:VEVENT
SUMMARY:New Orleans Shakers: 50 Jahre Jubiläumskonzert
DTSTART:20260724T180000Z
DTEND:20260724T210000Z
DTSTAMP:20260421T042930Z
UID:kulvio-event-2714@kulvio.de
CATEGORIES:Konzert
CREATED:20260419T155651Z
DESCRIPTION:Die New Orleans Shakers feiern im Liederbacher Jazzclub ihr 50
 -jähriges Bandjubiläum. Seit ihrer Gründung 1976 spielen Torsten Zwinge
 nberger\, Thomas l'Etienne\, Lorenz Boesche und Franz Blumenthal eine Misc
 hung aus New Orleans Jazz\, Swing\, brasilianischen Choros\, karibischer M
 usik\, Blues und Boogie Woogie. Das Jubiläumskonzert findet in der Kultur
 scheune in Liederbach statt und beginnt um 20 Uhr.
GEO:50.122884;8.480103
LAST-MODIFIED:20260419T160134Z
LOCATION:Kulturscheune Liederbach\, Feldstraße 4\, 65835\, Liederbach am 
 Taunus
STATUS:CONFIRMED
URL:https://kulvio.de/event/2714
END:VEVENT
END:VCALENDAR
