BEGIN:VCALENDAR
VERSION:2.0
PRODID:-//Kulvio Event Calendar//kulvio.de//
CALSCALE:GREGORIAN
METHOD:PUBLISH
BEGIN:VEVENT
SUMMARY:The Toughest Tenors im Liederbacher Jazzclub
DTSTART:20260904T180000Z
DTEND:20260904T210000Z
DTSTAMP:20260421T042942Z
UID:kulvio-event-2715@kulvio.de
CATEGORIES:Konzert
CREATED:20260419T155651Z
DESCRIPTION:Das Berliner Jazzquintett The Toughest Tenors spielt im Lieder
 bacher Jazzclub in der Kulturscheune. Die Band um die Tenorsaxofonisten Be
 rnd Suchland und Patrick Braun\, begleitet von Dan-Robin Matthies am Piano
 \, Lars Gühlcke am Kontrabass und Ralf Ruh am Schlagzeug\, präsentiert v
 ergessene Klassiker der 1950er und 1960er Jahre. Ihr Stil ist frisch und v
 irtuos\, rau und direkt.
GEO:50.122884;8.480103
LAST-MODIFIED:20260419T160134Z
LOCATION:Kulturscheune Liederbach\, Feldstraße 4\, 65835\, Liederbach am 
 Taunus
STATUS:CONFIRMED
URL:https://kulvio.de/event/2715
END:VEVENT
END:VCALENDAR
