BEGIN:VCALENDAR
VERSION:2.0
PRODID:-//Kulvio Event Calendar//kulvio.de//
CALSCALE:GREGORIAN
METHOD:PUBLISH
BEGIN:VEVENT
SUMMARY:Martin Auer & SWOAS: 100 Jahre Hot 5
DTSTART:20261009T180000Z
DTEND:20261009T210000Z
DTSTAMP:20260421T084856Z
UID:kulvio-event-2716@kulvio.de
CATEGORIES:Konzert
CREATED:20260419T155651Z
DESCRIPTION:Martin Auer und die South West Oldtime All Stars präsentieren
  ihr Programm 100 Jahre Hot 5 im Liederbacher Jazzclub. Das Konzert feiert
  das Jubiläum von Louis Armstrongs legendären Hot-5-Aufnahmen aus den 19
 20er Jahren. Mit Martin Auer an der Trompete\, Thilo Wagner am Piano\, Gar
 y Fuhrmann an der Klarinette\, Felix Fromm an der Posaune und Dave Ryan O'
 Hollyday am Banjo erklingt Traditional Jazz in der Kulturscheune.
GEO:50.122884;8.480103
LAST-MODIFIED:20260419T160134Z
LOCATION:Kulturscheune Liederbach\, Feldstraße 4\, 65835\, Liederbach am 
 Taunus
STATUS:CONFIRMED
URL:https://kulvio.de/event/2716
END:VEVENT
END:VCALENDAR
