BEGIN:VCALENDAR
VERSION:2.0
PRODID:-//Kulvio Event Calendar//kulvio.de//
CALSCALE:GREGORIAN
METHOD:PUBLISH
BEGIN:VEVENT
SUMMARY:Weihnachtskonzert: Dirk Raufeisen Big Band
DTSTART:20261218T200000Z
DTEND:20261218T225900Z
DTSTAMP:20260421T042944Z
UID:kulvio-event-2717@kulvio.de
CATEGORIES:Konzert
CREATED:20260419T155651Z
DESCRIPTION:Die Dirk Raufeisen Big Band spielt das Weihnachtskonzert im Li
 ederbacher Jazzclub in der Kulturscheune. Unter der Leitung von Dirk Raufe
 isen und mit Sänger Matthias Weinberger präsentiert die Big Band einen A
 bend mit Swing und Evergreens im Stil von Count Basie und Duke Ellington. 
 Das Repertoire reicht von den Klassikern des Rat Pack bis zu modernen Arra
 ngements aus Pop und Funk.
GEO:50.122884;8.480103
LAST-MODIFIED:20260419T160134Z
LOCATION:Kulturscheune Liederbach\, Feldstraße 4\, 65835\, Liederbach am 
 Taunus
STATUS:CONFIRMED
URL:https://kulvio.de/event/2717
END:VEVENT
END:VCALENDAR
