BEGIN:VCALENDAR
VERSION:2.0
PRODID:-//Kulvio Event Calendar//kulvio.de//
CALSCALE:GREGORIAN
METHOD:PUBLISH
BEGIN:VEVENT
SUMMARY:Wäldchesfest Sulzbach
DTSTART:20260524T090000Z
DTEND:20260524T160000Z
DTSTAMP:20260421T035331Z
UID:kulvio-event-2718@kulvio.de
CATEGORIES:Stadtfest,Tradition
CREATED:20260419T155706Z
DESCRIPTION:Das traditionelle Wäldchesfest in Sulzbach (Taunus) findet am
  Gelände des Feuerwehrhauses statt. Die Freiwillige Feuerwehr Sulzbach un
 d die örtlichen Vereine laden zu einem geselligen Tag mit Essen\, Trinken
  und Unterhaltung für die ganze Familie ein. Das Fest beginnt um 11 Uhr u
 nd gehört zu den festen Terminen im Sulzbacher Veranstaltungskalender.
GEO:50.134606;8.520521
LAST-MODIFIED:20260419T160134Z
LOCATION:Oberliederbacher Weg 15\, 65843\, Sulzbach (Taunus)
STATUS:CONFIRMED
URL:https://kulvio.de/event/2718
END:VEVENT
END:VCALENDAR
