BEGIN:VCALENDAR
VERSION:2.0
PRODID:-//Kulvio Event Calendar//kulvio.de//
CALSCALE:GREGORIAN
METHOD:PUBLISH
BEGIN:VEVENT
SUMMARY:Das Kleine Weindorf Sulzbach
DTSTART:20260530T150000Z
DTEND:20260530T200000Z
DTSTAMP:20260421T042945Z
UID:kulvio-event-2719@kulvio.de
CATEGORIES:Tasting,Open-Air
CREATED:20260419T155706Z
DESCRIPTION:Im Innenhof des Bürgerzentrums Frankfurter Hof in Sulzbach (T
 aunus) öffnet Das Kleine Weindorf seine Pforten. Besucher können bei reg
 ionalen Weinen und kulinarischen Angeboten den Frühsommerabend im geschü
 tzten Innenhof genießen. Die Veranstaltung beginnt um 17 Uhr und richtet 
 sich an Weinliebhaber und alle\, die einen entspannten Abend im Freien ver
 bringen möchten.
GEO:50.135179;8.525848
LAST-MODIFIED:20260419T160134Z
LOCATION:Bürgerzentrum Frankfurter Hof\, Cretzschmarstraße 6\, 65843\, S
 ulzbach (Taunus)
STATUS:CONFIRMED
URL:https://kulvio.de/event/2719
END:VEVENT
END:VCALENDAR
