BEGIN:VCALENDAR
VERSION:2.0
PRODID:-//Kulvio Event Calendar//kulvio.de//
CALSCALE:GREGORIAN
METHOD:PUBLISH
BEGIN:VEVENT
SUMMARY:Orgelkonzert für Kinder: Die Arche Noah
DTSTART:20260531T140000Z
DTEND:20260531T150000Z
DTSTAMP:20260421T042813Z
UID:kulvio-event-2720@kulvio.de
CATEGORIES:Konzert,Kindertheater
CREATED:20260419T155706Z
DESCRIPTION:In der Evangelischen Kirche in Sulzbach (Taunus) findet ein Or
 gelkonzert für Kinder unter dem Titel Die Arche Noah statt. Das Konzert m
 acht die Orgel als Instrument für junge Zuhörer erlebbar und erzählt di
 e biblische Geschichte musikalisch. Beginn ist um 16 Uhr\, die Veranstaltu
 ng richtet sich an Familien mit Kindern.
GEO:50.132831;8.529597
LAST-MODIFIED:20260419T160134Z
LOCATION:Evangelische Kirche Sulzbach\, Platz an der Linde 6\, 65843\, Sul
 zbach (Taunus)
STATUS:CONFIRMED
URL:https://kulvio.de/event/2720
END:VEVENT
END:VCALENDAR
