BEGIN:VCALENDAR
VERSION:2.0
PRODID:-//Kulvio Event Calendar//kulvio.de//
CALSCALE:GREGORIAN
METHOD:PUBLISH
BEGIN:VEVENT
SUMMARY:1. Sulzbacher Straßenflohmarkt
DTSTART:20260614T090000Z
DTEND:20260614T130000Z
DTSTAMP:20260421T034513Z
UID:kulvio-event-2721@kulvio.de
CATEGORIES:Flohmarkt
CREATED:20260419T155706Z
DESCRIPTION:Der erste Sulzbacher Straßenflohmarkt findet unter dem Motto 
 TRÖDELimORT statt und verteilt sich auf verschiedene Standorte in der Gem
 einde. Von 11 bis 15 Uhr bieten Anwohner und Händler Haushaltsgegenständ
 e\, Kleidung\, Spielzeug und Bücher an. Der Flohmarkt ist eine Premiere f
 ür Sulzbach und lädt zum Stöbern in der Nachbarschaft ein.
GEO:50.137064;8.528195
LAST-MODIFIED:20260419T160134Z
LOCATION:Cretzschmarstraße\, 65843\, Sulzbach (Taunus)
STATUS:CONFIRMED
URL:https://kulvio.de/event/2721
END:VEVENT
END:VCALENDAR
