BEGIN:VCALENDAR
VERSION:2.0
PRODID:-//Kulvio Event Calendar//kulvio.de//
CALSCALE:GREGORIAN
METHOD:PUBLISH
BEGIN:VEVENT
SUMMARY:Public Viewing WM 2026: Deutschland vs. Curaçao
DTSTART:20260614T170000Z
DTEND:20260614T200000Z
DTSTAMP:20260421T042503Z
UID:kulvio-event-2722@kulvio.de
CATEGORIES:Mannschaftssport
CREATED:20260419T155706Z
DESCRIPTION:Die Gemeinde Sulzbach (Taunus) lädt zum Public Viewing der FI
 FA Fußball-Weltmeisterschaft 2026 im Bürgerzentrum Frankfurter Hof ein. 
 Auf einer Großleinwand wird das Gruppenspiel der deutschen Nationalmannsc
 haft gegen Curaçao übertragen. Anpfiff ist um 19 Uhr\, für Getränke un
 d Snacks ist gesorgt.
GEO:50.135179;8.525848
LAST-MODIFIED:20260419T160134Z
LOCATION:Bürgerzentrum Frankfurter Hof\, Cretzschmarstraße 6\, 65843\, S
 ulzbach (Taunus)
STATUS:CONFIRMED
URL:https://kulvio.de/event/2722
END:VEVENT
END:VCALENDAR
