BEGIN:VCALENDAR
VERSION:2.0
PRODID:-//Kulvio Event Calendar//kulvio.de//
CALSCALE:GREGORIAN
METHOD:PUBLISH
BEGIN:VEVENT
SUMMARY:Public Viewing WM 2026: Deutschland vs. Elfenbeinküste
DTSTART:20260620T200000Z
DTEND:20260620T215900Z
DTSTAMP:20260421T084853Z
UID:kulvio-event-2723@kulvio.de
CATEGORIES:Mannschaftssport
CREATED:20260419T155706Z
DESCRIPTION:Im Bürgerzentrum Frankfurter Hof in Sulzbach (Taunus) wird da
 s zweite Gruppenspiel der deutschen Nationalmannschaft bei der FIFA WM 202
 6 gegen die Elfenbeinküste auf einer Großleinwand übertragen. Das Publi
 c Viewing beginnt um 22 Uhr\, die Gemeinde sorgt für Bewirtung und Stadio
 natmosphäre. Der Eintritt ist frei\, Getränke und Snacks gibt es vor Ort
 .
GEO:50.135179;8.525848
LAST-MODIFIED:20260419T160134Z
LOCATION:Bürgerzentrum Frankfurter Hof\, Cretzschmarstraße 6\, 65843\, S
 ulzbach (Taunus)
STATUS:CONFIRMED
URL:https://kulvio.de/event/2723
END:VEVENT
END:VCALENDAR
