BEGIN:VCALENDAR
VERSION:2.0
PRODID:-//Kulvio Event Calendar//kulvio.de//
CALSCALE:GREGORIAN
METHOD:PUBLISH
BEGIN:VEVENT
SUMMARY:Public Viewing WM 2026: Deutschland vs. Ecuador
DTSTART:20260625T200000Z
DTEND:20260625T215900Z
DTSTAMP:20260421T042941Z
UID:kulvio-event-2724@kulvio.de
CATEGORIES:Mannschaftssport
CREATED:20260419T155706Z
DESCRIPTION:Zum dritten Gruppenspiel der deutschen Mannschaft bei der FIFA
  Fußball-WM 2026 gegen Ecuador lädt die Gemeinde Sulzbach (Taunus) erneu
 t zum Public Viewing ins Bürgerzentrum Frankfurter Hof ein. Anpfiff ist u
 m 22 Uhr\, die Übertragung erfolgt auf einer Großleinwand mit Bewirtung 
 vor Ort. Das letzte Gruppenspiel entscheidet über den Einzug ins Achtelfi
 nale.
GEO:50.135179;8.525848
LAST-MODIFIED:20260419T160134Z
LOCATION:Bürgerzentrum Frankfurter Hof\, Cretzschmarstraße 6\, 65843\, S
 ulzbach (Taunus)
STATUS:CONFIRMED
URL:https://kulvio.de/event/2724
END:VEVENT
END:VCALENDAR
