BEGIN:VCALENDAR
VERSION:2.0
PRODID:-//Kulvio Event Calendar//kulvio.de//
CALSCALE:GREGORIAN
METHOD:PUBLISH
BEGIN:VEVENT
SUMMARY:Sulzbacher Volkslauf
DTSTART:20260621T080000Z
DTEND:20260621T120000Z
DTSTAMP:20260421T042946Z
UID:kulvio-event-2725@kulvio.de
CATEGORIES:Laufsport,Wettkampf
CREATED:20260419T155706Z
DESCRIPTION:Der Sulzbacher Volkslauf führt über verschiedene Strecken ru
 nd um die Sportanlage Am Eichwald in Sulzbach (Taunus). Die Laufveranstalt
 ung richtet sich an Freizeitsportler und ambitionierte Läufer gleicherma
 ßen und startet um 10 Uhr. Der Volkslauf gehört zu den etablierten Sport
 veranstaltungen der Gemeinde.
GEO:50.144929;8.510469
LAST-MODIFIED:20260419T160134Z
LOCATION:Am Eichwald\, 65843\, Sulzbach (Taunus)
STATUS:CONFIRMED
URL:https://kulvio.de/event/2725
END:VEVENT
END:VCALENDAR
