BEGIN:VCALENDAR
VERSION:2.0
PRODID:-//Kulvio Event Calendar//kulvio.de//
CALSCALE:GREGORIAN
METHOD:PUBLISH
BEGIN:VEVENT
SUMMARY:Fest der Vereine Sulzbach
DTSTART:20260627T080000Z
DTEND:20260627T160000Z
DTSTAMP:20260421T042945Z
UID:kulvio-event-2726@kulvio.de
CATEGORIES:Stadtfest
CREATED:20260419T155706Z
DESCRIPTION:Das Fest der Vereine am Platz an der Linde bringt die Sulzbach
 er Vereinslandschaft zusammen. Vereine und Organisationen präsentieren si
 ch mit Ständen\, kulinarischen Angeboten und einem vielfältigen Programm
  für die ganze Familie. Das Fest beginnt um 10 Uhr und ist eine Gelegenhe
 it\, die aktive Vereinskultur der Gemeinde kennenzulernen.
GEO:50.133321;8.528583
LAST-MODIFIED:20260419T160134Z
LOCATION:Platz an der Linde\, 65843\, Sulzbach (Taunus)
STATUS:CONFIRMED
URL:https://kulvio.de/event/2726
END:VEVENT
END:VCALENDAR
