BEGIN:VCALENDAR
VERSION:2.0
PRODID:-//Kulvio Event Calendar//kulvio.de//
CALSCALE:GREGORIAN
METHOD:PUBLISH
BEGIN:VEVENT
SUMMARY:Neue Philharmonie Frankfurt Open-Air im Heinrich-Kleber-Park
DTSTART:20260704T160000Z
DTEND:20260704T190000Z
DTSTAMP:20260421T042946Z
UID:kulvio-event-2727@kulvio.de
CATEGORIES:Konzert,Open-Air
CREATED:20260419T155706Z
DESCRIPTION:Die Neue Philharmonie Frankfurt gastiert mit einem Open-Air-Ko
 nzert im Heinrich-Kleber-Park in Sulzbach (Taunus). Das Orchester präsent
 iert ein Crossover-Programm von Klassik über Filmmusik bis zu Pop und Roc
 k unter freiem Himmel. Das Konzert beginnt um 18 Uhr und bildet einen der 
 kulturellen Höhepunkte des Sulzbacher Sommerprogramms.
GEO:50.132621;8.525778
LAST-MODIFIED:20260419T160134Z
LOCATION:Heinrich-Kleber-Park\, 65843\, Sulzbach (Taunus)
STATUS:CONFIRMED
URL:https://kulvio.de/event/2727
END:VEVENT
END:VCALENDAR
