BEGIN:VCALENDAR
VERSION:2.0
PRODID:-//Kulvio Event Calendar//kulvio.de//
CALSCALE:GREGORIAN
METHOD:PUBLISH
BEGIN:VEVENT
SUMMARY:Barock-Konzert: Sergey Sadovoy
DTSTART:20260726T160000Z
DTEND:20260726T180000Z
DTSTAMP:20260421T042502Z
UID:kulvio-event-2728@kulvio.de
CATEGORIES:Konzert
CREATED:20260419T155706Z
DESCRIPTION:Der Akkordeonist Sergey Sadovoy spielt ein Barock-Konzert in d
 er Evangelischen Kirche in Sulzbach (Taunus). Mit dem Akkordeon interpreti
 ert Sadovoy barocke Kompositionen und zeigt die Vielseitigkeit des Instrum
 ents in der akustisch hervorragenden Kirchenumgebung. Das Konzert beginnt 
 um 18 Uhr.
GEO:50.132831;8.529597
LAST-MODIFIED:20260419T160134Z
LOCATION:Evangelische Kirche Sulzbach\, Platz an der Linde 6\, 65843\, Sul
 zbach (Taunus)
STATUS:CONFIRMED
URL:https://kulvio.de/event/2728
END:VEVENT
END:VCALENDAR
