BEGIN:VCALENDAR
VERSION:2.0
PRODID:-//Kulvio Event Calendar//kulvio.de//
CALSCALE:GREGORIAN
METHOD:PUBLISH
BEGIN:VEVENT
SUMMARY:Sommer Open-Air: I Dolci Signori - Italienischer Abend
DTSTART:20260807T160000Z
DTEND:20260807T200000Z
DTSTAMP:20260421T042500Z
UID:kulvio-event-2729@kulvio.de
CATEGORIES:Konzert,Open-Air
CREATED:20260419T155706Z
DESCRIPTION:Die Band I Dolci Signori bringt einen italienischen Abend in d
 en Heinrich-Kleber-Park in Sulzbach (Taunus). Das Sommer-Open-Air bietet i
 talienische Musik und Lebensfreude unter freiem Himmel. Die Veranstaltung 
 beginnt um 18 Uhr und lädt zu einem entspannten Sommerabend mit mediterra
 nem Flair ein.
GEO:50.132621;8.525778
LAST-MODIFIED:20260419T160134Z
LOCATION:Heinrich-Kleber-Park\, 65843\, Sulzbach (Taunus)
STATUS:CONFIRMED
URL:https://kulvio.de/event/2729
END:VEVENT
END:VCALENDAR
