BEGIN:VCALENDAR
VERSION:2.0
PRODID:-//Kulvio Event Calendar//kulvio.de//
CALSCALE:GREGORIAN
METHOD:PUBLISH
BEGIN:VEVENT
SUMMARY:Welthits auf Hessisch
DTSTART:20260822T160000Z
DTEND:20260822T190000Z
DTSTAMP:20260421T035201Z
UID:kulvio-event-2730@kulvio.de
CATEGORIES:Comedy,Konzert
CREATED:20260419T155706Z
DESCRIPTION:Im Bürgerzentrum Frankfurter Hof in Sulzbach (Taunus) werden 
 bekannte Welthits auf Hessisch präsentiert. Die musikalisch-komödiantisc
 he Show überträgt internationale Hits in den hessischen Dialekt und sorg
 t für einen unterhaltsamen Abend. Beginn ist um 18 Uhr\, die Veranstaltun
 g richtet sich an alle\, die Humor und Musik verbinden möchten.
GEO:50.135179;8.525848
LAST-MODIFIED:20260419T160134Z
LOCATION:Bürgerzentrum Frankfurter Hof\, Cretzschmarstraße 6\, 65843\, S
 ulzbach (Taunus)
STATUS:CONFIRMED
URL:https://kulvio.de/event/2730
END:VEVENT
END:VCALENDAR
