BEGIN:VCALENDAR
VERSION:2.0
PRODID:-//Kulvio Event Calendar//kulvio.de//
CALSCALE:GREGORIAN
METHOD:PUBLISH
BEGIN:VEVENT
SUMMARY:Michael Quast & Sabine Fischmann: Im Weißen Rössl à trois
DTSTART:20260905T160000Z
DTEND:20260905T183000Z
DTSTAMP:20260421T042942Z
UID:kulvio-event-2731@kulvio.de
CATEGORIES:Kabarett,Theater
CREATED:20260419T155706Z
DESCRIPTION:Der Frankfurter Schauspieler und Kabarettist Michael Quast pr
 äsentiert zusammen mit Sabine Fischmann das Stück Im Weißen Rössl à t
 rois im Bürgerzentrum Frankfurter Hof in Sulzbach (Taunus). Die beiden si
 nd bekannt für ihre humorvollen Interpretationen klassischer Stoffe auf d
 er Bühne. Die Vorstellung beginnt um 18 Uhr.
GEO:50.135179;8.525848
LAST-MODIFIED:20260419T160134Z
LOCATION:Bürgerzentrum Frankfurter Hof\, Cretzschmarstraße 6\, 65843\, S
 ulzbach (Taunus)
STATUS:CONFIRMED
URL:https://kulvio.de/event/2731
END:VEVENT
END:VCALENDAR
